BEGIN:VCALENDAR
VERSION:2.0
PRODID:-//Gujarat Hindu Society - ECPv5.9.1//NONSGML v1.0//EN
CALSCALE:GREGORIAN
METHOD:PUBLISH
X-WR-CALNAME:Gujarat Hindu Society
X-ORIGINAL-URL:https://www.ghspreston.co.uk
X-WR-CALDESC:Events for Gujarat Hindu Society
BEGIN:VTIMEZONE
TZID:Europe/London
BEGIN:DAYLIGHT
TZOFFSETFROM:+0000
TZOFFSETTO:+0100
TZNAME:BST
DTSTART:20250330T010000
END:DAYLIGHT
BEGIN:STANDARD
TZOFFSETFROM:+0100
TZOFFSETTO:+0000
TZNAME:GMT
DTSTART:20251026T010000
END:STANDARD
END:VTIMEZONE
BEGIN:VEVENT
DTSTART;TZID=Europe/London:20250125T180000
DTEND;TZID=Europe/London:20250125T200000
DTSTAMP:20260420T140630
CREATED:20250102T155353Z
LAST-MODIFIED:20250102T155655Z
UID:9535-1737828000-1737835200@www.ghspreston.co.uk
SUMMARY:Variety Cultural Show Sat 25th Jan
DESCRIPTION:Invitation to attend Variety Cultural Show to celebrate the Republic Day Of India on Saturday 25th January 2025. \nDoors Open @ 5:45pm \nShow starts @ 6:00pm till 8:00 pm (No Break) \nTicket : £l per person (under 12’s FREE) \nMain Hall at Gujarat Hindu Society \n \n 
URL:https://www.ghspreston.co.uk/calendar/variety-cultural-show-sat-25th-jan-2025/
LOCATION:Main Hall\, Gujarat Hindu Society\, South Meadow Lane\, Preston\, PR1 8PS\, United Kingdom
CATEGORIES:2025,India
END:VEVENT
END:VCALENDAR