BEGIN:VCALENDAR
VERSION:2.0
PRODID:-//Gujarat Hindu Society - ECPv5.9.1//NONSGML v1.0//EN
CALSCALE:GREGORIAN
METHOD:PUBLISH
X-WR-CALNAME:Gujarat Hindu Society
X-ORIGINAL-URL:https://www.ghspreston.co.uk
X-WR-CALDESC:Events for Gujarat Hindu Society
BEGIN:VTIMEZONE
TZID:Europe/London
BEGIN:DAYLIGHT
TZOFFSETFROM:+0000
TZOFFSETTO:+0100
TZNAME:BST
DTSTART:20230326T010000
END:DAYLIGHT
BEGIN:STANDARD
TZOFFSETFROM:+0100
TZOFFSETTO:+0000
TZNAME:GMT
DTSTART:20231029T010000
END:STANDARD
END:VTIMEZONE
BEGIN:VEVENT
DTSTART;TZID=Europe/London:20231002T180000
DTEND;TZID=Europe/London:20231002T200000
DTSTAMP:20260422T072938
CREATED:20230930T124053Z
LAST-MODIFIED:20230930T125450Z
UID:8069-1696269600-1696276800@www.ghspreston.co.uk
SUMMARY:Sri Rama Nama Mon 2 Oct
DESCRIPTION:Sri Rama Nama UK\nInvitation for all to participate in this once in a lifetime opportunity to get the blessings of Sri Sita Rama \nCome and join this wonderful Sewa to be part of a divine experience to be with the Sri Rama Padukas\nMonday \, 2nd October 2023\nSri Gurubhyoh Namah \nWith blessings from Param Pujya Shankaracharya\, Kanchi Peeth \nProgramme Details \n6:00 pm – Arrival of Sri Rama Padukas – All devotees can join.\n6:15 pm – Abhishek Pooja – Priest/President\n7:00 pm – Arti – Vice President\n7:10 pm – Kirtan – All devotees can join.\n7.45 pm – Sewa offering flowers to Sri Rama padukas – All devotees can join.\n8:00 pm – Prasadi – All devotees can join. \nSri Rama Padukas (the footwear of Bhagwan Sri Rama) bring peace\, tranquility and good positive thoughts. They represent Sri Rama Rajya (the king Of the entire world). In Sri Rama’s kingdom\, Sage Valmiki says\, there is no person Who is Without wealth\, there is no person Without good health\, there is no person without omaments on their body\, there is no person without good food\, there is no person who is not educated\, there is no person who does not own a house. \n* *NB : If you wish to donate flowers for sewa you can bring\,Jai Sri Krishna
URL:https://www.ghspreston.co.uk/calendar/sri-rama-nama-mon-2-oct-2023/
LOCATION:GHS Temple\, Gujarat Hindu Society and Community Centre South Meadow Lane\, Preston\, Lancashire\, PR1 8JN\, United Kingdom
CATEGORIES:2023
END:VEVENT
END:VCALENDAR