BEGIN:VCALENDAR
VERSION:2.0
PRODID:-//Gujarat Hindu Society - ECPv5.9.1//NONSGML v1.0//EN
CALSCALE:GREGORIAN
METHOD:PUBLISH
X-WR-CALNAME:Gujarat Hindu Society
X-ORIGINAL-URL:https://www.ghspreston.co.uk
X-WR-CALDESC:Events for Gujarat Hindu Society
BEGIN:VTIMEZONE
TZID:Europe/London
BEGIN:DAYLIGHT
TZOFFSETFROM:+0000
TZOFFSETTO:+0100
TZNAME:BST
DTSTART:20230326T010000
END:DAYLIGHT
BEGIN:STANDARD
TZOFFSETFROM:+0100
TZOFFSETTO:+0000
TZNAME:GMT
DTSTART:20231029T010000
END:STANDARD
END:VTIMEZONE
BEGIN:VEVENT
DTSTART;VALUE=DATE:20230929
DTEND;VALUE=DATE:20231015
DTSTAMP:20260423T073544
CREATED:20230901T233341Z
LAST-MODIFIED:20230901T233518Z
UID:7931-1695945600-1697327999@www.ghspreston.co.uk
SUMMARY:Shradhdha Fri 29 Sep to Sat 14 Oct
DESCRIPTION:
URL:https://www.ghspreston.co.uk/calendar/shradhdha-fri-29-sep-to-sat-14-oct-2023/
CATEGORIES:2023
END:VEVENT
END:VCALENDAR