BEGIN:VCALENDAR
VERSION:2.0
PRODID:-//Gujarat Hindu Society - ECPv5.9.1//NONSGML v1.0//EN
CALSCALE:GREGORIAN
METHOD:PUBLISH
X-WR-CALNAME:Gujarat Hindu Society
X-ORIGINAL-URL:https://www.ghspreston.co.uk
X-WR-CALDESC:Events for Gujarat Hindu Society
BEGIN:VTIMEZONE
TZID:Europe/London
BEGIN:DAYLIGHT
TZOFFSETFROM:+0000
TZOFFSETTO:+0100
TZNAME:BST
DTSTART:20250330T010000
END:DAYLIGHT
BEGIN:STANDARD
TZOFFSETFROM:+0100
TZOFFSETTO:+0000
TZNAME:GMT
DTSTART:20251026T010000
END:STANDARD
END:VTIMEZONE
BEGIN:VEVENT
DTSTART;TZID=Europe/London:20250831T140000
DTEND;TZID=Europe/London:20250831T160000
DTSTAMP:20260420T105852
CREATED:20250801T222639Z
LAST-MODIFIED:20250801T223141Z
UID:10131-1756648800-1756656000@www.ghspreston.co.uk
SUMMARY:Rath Yatra Sun 31th Aug
DESCRIPTION:Rath Yatra\nSunday 31st August\n02-00 pm to 4:00 pm\nFrom Preston City Center\nBhojan Prasadi – 6.00 pm \nWe are very pleased to inform you that we will be celebrating our 25th Murti Pran Pratishtha Mahotsav (anniversary) of the opening of our new purpose built centre. You are cordially invited to be present on this auspicious occasion. \n 
URL:https://www.ghspreston.co.uk/calendar/rath-yatra-sun-31th-aug-2025/
LOCATION:GHS Temple\, Gujarat Hindu Society and Community Centre South Meadow Lane\, Preston\, Lancashire\, PR1 8JN\, United Kingdom
CATEGORIES:2025,Patotsav
END:VEVENT
END:VCALENDAR