BEGIN:VCALENDAR
VERSION:2.0
PRODID:-//Gujarat Hindu Society - ECPv5.9.1//NONSGML v1.0//EN
CALSCALE:GREGORIAN
METHOD:PUBLISH
X-WR-CALNAME:Gujarat Hindu Society
X-ORIGINAL-URL:https://www.ghspreston.co.uk
X-WR-CALDESC:Events for Gujarat Hindu Society
BEGIN:VTIMEZONE
TZID:Europe/London
BEGIN:DAYLIGHT
TZOFFSETFROM:+0000
TZOFFSETTO:+0100
TZNAME:BST
DTSTART:20230326T010000
END:DAYLIGHT
BEGIN:STANDARD
TZOFFSETFROM:+0100
TZOFFSETTO:+0000
TZNAME:GMT
DTSTART:20231029T010000
END:STANDARD
END:VTIMEZONE
BEGIN:VEVENT
DTSTART;TZID=Europe/London:20231015T200000
DTEND;TZID=Europe/London:20231023T223000
DTSTAMP:20260423T033653
CREATED:20231004T225444Z
LAST-MODIFIED:20231004T230532Z
UID:8081-1697400000-1698100200@www.ghspreston.co.uk
SUMMARY:Navratri 2023 - Sun 15 Oct to Mon 23 Oct
DESCRIPTION:Navratri 2023\nSunday 15th October 2023 – Monday 23rd October 2023 \nGhatsthapan: Sunday 15.10.23 10:00 am\nMataji afternoon Garba: Every day 3:00 – 6:00 pm\nAatham Yagna: Sunday 22-10.23 from 10:00 am\nNavratri Raas Garba: Everyday 8:00 pm to 10:30 pm\nJavera Visrjan: Tuesday 24.10.23 09:45 am\nKumarika Bhojan: Saturday 28.10.23 12:OOpm \nDays 1-3: The first three nights are dedicated to the goddess of action and energy. Her different manifestations Kumari\, Parvati and Kali\, are all worshipped during these days. They represent the three different classes Of womanhood. Firstly\, the young child\, followed by mother/wife and finally as a mature woman. \nDays 4-6: Lakshmi is worshipped during the following three days as the Goddess of Peace and Bliss. The essence of the worship is that fulfilment is more important than wealth itself. As the Goddess of Wealth\, she also governs basic things such as family\, friends\, food etc. On the fifth day it is traditional to gather all books\, light a lamp and invoke Saraswati (Goddess of Knowledge and Art). \nDays 7-9: Saraswati is worshipped during the final three days. Mata Saraswati blesses her devotees with pure thoughts and high intellect. This enables them to distinguish between the good and the bad\, between righteousness and unrighteousness and helps them to adopt the correct path in life. \nRaas Garba Arti:\nA ready Arti thali will be provided. \nDaily Arti £10.00\nAtham Arti £20.00
URL:https://www.ghspreston.co.uk/calendar/navratri-2023-sun-15-oct-to-mon-23-oct/
LOCATION:Main Hall\, Gujarat Hindu Society\, South Meadow Lane\, Preston\, PR1 8PS\, United Kingdom
CATEGORIES:2023
END:VEVENT
END:VCALENDAR