BEGIN:VCALENDAR
VERSION:2.0
PRODID:-//Gujarat Hindu Society - ECPv5.9.1//NONSGML v1.0//EN
CALSCALE:GREGORIAN
METHOD:PUBLISH
X-WR-CALNAME:Gujarat Hindu Society
X-ORIGINAL-URL:https://www.ghspreston.co.uk
X-WR-CALDESC:Events for Gujarat Hindu Society
BEGIN:VTIMEZONE
TZID:Europe/London
BEGIN:DAYLIGHT
TZOFFSETFROM:+0000
TZOFFSETTO:+0100
TZNAME:BST
DTSTART:20230326T010000
END:DAYLIGHT
BEGIN:STANDARD
TZOFFSETFROM:+0100
TZOFFSETTO:+0000
TZNAME:GMT
DTSTART:20231029T010000
END:STANDARD
END:VTIMEZONE
BEGIN:VEVENT
DTSTART;TZID=Europe/London:20231028T120000
DTEND;TZID=Europe/London:20231028T130000
DTSTAMP:20260423T022522
CREATED:20231027T200518Z
LAST-MODIFIED:20231027T202258Z
UID:8121-1698494400-1698498000@www.ghspreston.co.uk
SUMMARY:Kumarika Bhojan Sat 28 Oct
DESCRIPTION:Programme Details \n12:00 pm – Kumarika Bhojan starts \nSharad Purnima is on the same day. We do not have any activities related to this in the temple. \nA partial Lunar eclipse to be visible in the UK on 28th October. Therefore\, the temple will be open between 8:00 am and 1 pm. The temple will remain closed for the rest of the day on 28th October. The temple will re-open at 8:00 am on Sunday 29th October.
URL:https://www.ghspreston.co.uk/calendar/kumarika-bhojan-sat-28-oct-2023/
LOCATION:GHS Temple\, Gujarat Hindu Society and Community Centre South Meadow Lane\, Preston\, Lancashire\, PR1 8JN\, United Kingdom
CATEGORIES:2023
END:VEVENT
END:VCALENDAR