BEGIN:VCALENDAR
VERSION:2.0
PRODID:-//Gujarat Hindu Society - ECPv5.9.1//NONSGML v1.0//EN
CALSCALE:GREGORIAN
METHOD:PUBLISH
X-WR-CALNAME:Gujarat Hindu Society
X-ORIGINAL-URL:https://www.ghspreston.co.uk
X-WR-CALDESC:Events for Gujarat Hindu Society
BEGIN:VTIMEZONE
TZID:Europe/London
BEGIN:DAYLIGHT
TZOFFSETFROM:+0000
TZOFFSETTO:+0100
TZNAME:BST
DTSTART:20230326T010000
END:DAYLIGHT
BEGIN:STANDARD
TZOFFSETFROM:+0100
TZOFFSETTO:+0000
TZNAME:GMT
DTSTART:20231029T010000
END:STANDARD
END:VTIMEZONE
BEGIN:VEVENT
DTSTART;VALUE=DATE:20231101
DTEND;VALUE=DATE:20231102
DTSTAMP:20260423T010512
CREATED:20231027T202337Z
LAST-MODIFIED:20231027T202547Z
UID:8126-1698796800-1698883199@www.ghspreston.co.uk
SUMMARY:Karwa Chauth Wed 1 Nov
DESCRIPTION:There are no activities related to this event in the temple.
URL:https://www.ghspreston.co.uk/calendar/karwa-chauth-wed-1-nov-2023/
CATEGORIES:2023
END:VEVENT
END:VCALENDAR