BEGIN:VCALENDAR
VERSION:2.0
PRODID:-//Gujarat Hindu Society - ECPv5.9.1//NONSGML v1.0//EN
CALSCALE:GREGORIAN
METHOD:PUBLISH
X-WR-CALNAME:Gujarat Hindu Society
X-ORIGINAL-URL:https://www.ghspreston.co.uk
X-WR-CALDESC:Events for Gujarat Hindu Society
BEGIN:VTIMEZONE
TZID:Europe/London
BEGIN:DAYLIGHT
TZOFFSETFROM:+0000
TZOFFSETTO:+0100
TZNAME:BST
DTSTART:20250330T010000
END:DAYLIGHT
BEGIN:STANDARD
TZOFFSETFROM:+0100
TZOFFSETTO:+0000
TZNAME:GMT
DTSTART:20251026T010000
END:STANDARD
END:VTIMEZONE
BEGIN:VEVENT
DTSTART;TZID=Europe/London:20250827T113000
DTEND;TZID=Europe/London:20250827T123000
DTSTAMP:20260421T154405
CREATED:20250801T223153Z
LAST-MODIFIED:20250801T223803Z
UID:10133-1756294200-1756297800@www.ghspreston.co.uk
SUMMARY:Ganesh Chaturthi Wed 27th Aug
DESCRIPTION:Wednesday\n27.08.2025\n11:30pm \nGanesh Chaturthi is on Wednesday 27th August. You are invited to celebrate Ganesh Chaturthi in our temple. Please come along and sing Bapa’s Bhajan which will please Lord Shiva too.
URL:https://www.ghspreston.co.uk/calendar/ganesh-chaturthi-wed-27th-aug-2025/
LOCATION:GHS Temple\, Gujarat Hindu Society and Community Centre South Meadow Lane\, Preston\, Lancashire\, PR1 8JN\, United Kingdom
CATEGORIES:2025,Lord Ganesh
END:VEVENT
END:VCALENDAR