BEGIN:VCALENDAR
VERSION:2.0
PRODID:-//Gujarat Hindu Society - ECPv5.9.1//NONSGML v1.0//EN
CALSCALE:GREGORIAN
METHOD:PUBLISH
X-WR-CALNAME:Gujarat Hindu Society
X-ORIGINAL-URL:https://www.ghspreston.co.uk
X-WR-CALDESC:Events for Gujarat Hindu Society
BEGIN:VTIMEZONE
TZID:Europe/London
BEGIN:DAYLIGHT
TZOFFSETFROM:+0000
TZOFFSETTO:+0100
TZNAME:BST
DTSTART:20240331T010000
END:DAYLIGHT
BEGIN:STANDARD
TZOFFSETFROM:+0100
TZOFFSETTO:+0000
TZNAME:GMT
DTSTART:20241027T010000
END:STANDARD
END:VTIMEZONE
BEGIN:VEVENT
DTSTART;TZID=Europe/London:20241101T190000
DTEND;TZID=Europe/London:20241101T235900
DTSTAMP:20260420T093419
CREATED:20240930T213418Z
LAST-MODIFIED:20240930T213639Z
UID:9304-1730487600-1730505540@www.ghspreston.co.uk
SUMMARY:Diwali Fireworks Fri 1st Nov
DESCRIPTION:TBA
URL:https://www.ghspreston.co.uk/calendar/diwali-fireworks-fri-1st-nov-2024/
CATEGORIES:2024,Diwali,Fireworks
END:VEVENT
END:VCALENDAR