BEGIN:VCALENDAR
VERSION:2.0
PRODID:-//Gujarat Hindu Society - ECPv5.9.1//NONSGML v1.0//EN
CALSCALE:GREGORIAN
METHOD:PUBLISH
X-WR-CALNAME:Gujarat Hindu Society
X-ORIGINAL-URL:https://www.ghspreston.co.uk
X-WR-CALDESC:Events for Gujarat Hindu Society
BEGIN:VTIMEZONE
TZID:Europe/London
BEGIN:DAYLIGHT
TZOFFSETFROM:+0000
TZOFFSETTO:+0100
TZNAME:BST
DTSTART:20240331T010000
END:DAYLIGHT
BEGIN:STANDARD
TZOFFSETFROM:+0100
TZOFFSETTO:+0000
TZNAME:GMT
DTSTART:20241027T010000
END:STANDARD
END:VTIMEZONE
BEGIN:VEVENT
DTSTART;TZID=Europe/London:20241003T193000
DTEND;TZID=Europe/London:20241011T203000
DTSTAMP:20260421T043852
CREATED:20240901T170554Z
LAST-MODIFIED:20240902T210557Z
UID:9185-1727983800-1728678600@www.ghspreston.co.uk
SUMMARY:Navratri Thu 3rd to Fri 11th Oct
DESCRIPTION:Navratri 2024\nThursday 03rd October 2024 – Friday 11th October 2024 \nGhatsthapan: Thursday 03.10.24 10:00 am\nMataji afternoon Garba: Every day 3:00 – 6:00 pm (in the temple)\nAatham Yagna: Friday 11.10.24 from 10:00 am\nNavratri Raas Garba: Everyday 8:00 pm to 10:30 pm (in the main hall)\nJavera Visrjan: Saturday 12.10.24 10:00 am\nKumarika Bhojan: Sunday 13.10.24 12:00pm \nDays 1-3: The first three nights are dedicated to the goddess of action and energy. Her different manifestations Kumari\, Parvati and Kali\, are all worshipped during these days. They represent the three different classes of womanhood. Firstly\, the young child\, followed by mother/wife and finally as a mature woman. \nDays 4-6: Lakshmi is worshipped during the following three days as the Goddess of Peace and Bliss. The essence of the worship is that fulfilment is more important than wealth itself. As the Goddess of Wealth\, she also governs basic things such as family\, friends\, food etc. On the fifth day it is traditional to gather all books\, light a lamp and invoke Saraswati (Goddess of Knowledge and Art). \nDays 7-9: Saraswati is worshipped during the final three days. Mata Saraswati blesses her devotees with pure thoughts and high intellect. This enables them to distinguish between the good and the bad\, between righteousness andunrighteousness and helps them to adopt the correct path in life. \n  \n \n 
URL:https://www.ghspreston.co.uk/calendar/navratri-thu-3rd-to-fri-11th-oct-2024/
LOCATION:Main Hall\, Gujarat Hindu Society\, South Meadow Lane\, Preston\, PR1 8PS\, United Kingdom
CATEGORIES:2024,Garba,Navratri,Religious
END:VEVENT
END:VCALENDAR