BEGIN:VCALENDAR
VERSION:2.0
PRODID:-//Gujarat Hindu Society - ECPv5.9.1//NONSGML v1.0//EN
CALSCALE:GREGORIAN
METHOD:PUBLISH
X-WR-CALNAME:Gujarat Hindu Society
X-ORIGINAL-URL:https://www.ghspreston.co.uk
X-WR-CALDESC:Events for Gujarat Hindu Society
BEGIN:VTIMEZONE
TZID:Europe/London
BEGIN:DAYLIGHT
TZOFFSETFROM:+0000
TZOFFSETTO:+0100
TZNAME:BST
DTSTART:20250330T010000
END:DAYLIGHT
BEGIN:STANDARD
TZOFFSETFROM:+0100
TZOFFSETTO:+0000
TZNAME:GMT
DTSTART:20251026T010000
END:STANDARD
END:VTIMEZONE
BEGIN:VEVENT
DTSTART;TZID=Europe/London:20250412T063000
DTEND;TZID=Europe/London:20250412T200000
DTSTAMP:20260420T194803
CREATED:20250301T224854Z
LAST-MODIFIED:20250403T225409Z
UID:9702-1744439400-1744488000@www.ghspreston.co.uk
SUMMARY:Hanuman Jayanti Sat 12th Apr
DESCRIPTION:Everyone is welcome to join this religious programme.\n  \nProgramme details: \n7:30 pm – Hanumanji Pujan\n8:00 pm – Dhwajaropan\n8:30 pm – Hanumanjini Aarti \n  \n  \n \n 
URL:https://www.ghspreston.co.uk/calendar/hanuman-jayanti-sat-12th-apr-2025/
LOCATION:GHS Temple\, Gujarat Hindu Society and Community Centre South Meadow Lane\, Preston\, Lancashire\, PR1 8JN\, United Kingdom
CATEGORIES:2025,Festivals,Lord Hanuman,Lord Ram
END:VEVENT
END:VCALENDAR