BEGIN:VCALENDAR
VERSION:2.0
PRODID:-//Gujarat Hindu Society - ECPv5.9.1//NONSGML v1.0//EN
CALSCALE:GREGORIAN
METHOD:PUBLISH
X-WR-CALNAME:Gujarat Hindu Society
X-ORIGINAL-URL:https://www.ghspreston.co.uk
X-WR-CALDESC:Events for Gujarat Hindu Society
BEGIN:VTIMEZONE
TZID:Europe/London
BEGIN:DAYLIGHT
TZOFFSETFROM:+0000
TZOFFSETTO:+0100
TZNAME:BST
DTSTART:20240331T010000
END:DAYLIGHT
BEGIN:STANDARD
TZOFFSETFROM:+0100
TZOFFSETTO:+0000
TZNAME:GMT
DTSTART:20241027T010000
END:STANDARD
END:VTIMEZONE
BEGIN:VEVENT
DTSTART;TZID=Europe/London:20241026T150000
DTEND;TZID=Europe/London:20241026T190000
DTSTAMP:20260420T105852
CREATED:20240929T161249Z
LAST-MODIFIED:20240929T162741Z
UID:9270-1729954800-1729969200@www.ghspreston.co.uk
SUMMARY:Children's Diwali Party Sat 26th Oct
DESCRIPTION:Saturday 26th October 2024 – 3:00 pm to 7:00 pm\n \nPlease bring your children at 3.00 pm and collect them at 7.00 pm. We welcome volunteers to help with games etc. Donations for refreshments\, toys etc. will be highly appreciated. \nFor volunteering and donation please contact at the Mandir. \n  \n \n  \n 
URL:https://www.ghspreston.co.uk/calendar/childrens-diwali-party-sat-26th-oct-2024/
LOCATION:Main Hall\, Gujarat Hindu Society\, South Meadow Lane\, Preston\, PR1 8PS\, United Kingdom
CATEGORIES:2024,Diwali,Festivals
END:VEVENT
END:VCALENDAR