BEGIN:VCALENDAR
VERSION:2.0
PRODID:-//Gujarat Hindu Society - ECPv5.9.1//NONSGML v1.0//EN
CALSCALE:GREGORIAN
METHOD:PUBLISH
X-WR-CALNAME:Gujarat Hindu Society
X-ORIGINAL-URL:https://www.ghspreston.co.uk
X-WR-CALDESC:Events for Gujarat Hindu Society
BEGIN:VTIMEZONE
TZID:Europe/London
BEGIN:DAYLIGHT
TZOFFSETFROM:+0000
TZOFFSETTO:+0100
TZNAME:BST
DTSTART:20240331T010000
END:DAYLIGHT
BEGIN:STANDARD
TZOFFSETFROM:+0100
TZOFFSETTO:+0000
TZNAME:GMT
DTSTART:20241027T010000
END:STANDARD
END:VTIMEZONE
BEGIN:VEVENT
DTSTART;TZID=Europe/London:20240126T183000
DTEND;TZID=Europe/London:20240126T193000
DTSTAMP:20260422T213115
CREATED:20240117T223018Z
LAST-MODIFIED:20240117T224229Z
UID:8424-1706293800-1706297400@www.ghspreston.co.uk
SUMMARY:Republic Day (India) Fri 26 Jan
DESCRIPTION:You are welcome to join us for the Flag Hoisting ceremony on Friday 26 January@ 6:30 pm in main hall. \nGujarati School Parents Day\nWe would like to request all parents to come and meet teachers to discuss the progress of your child at the Gujarati school.
URL:https://www.ghspreston.co.uk/calendar/republic-day-india-fri-26-jan-2024/
LOCATION:Main Hall\, Gujarat Hindu Society\, South Meadow Lane\, Preston\, PR1 8PS\, United Kingdom
CATEGORIES:2024,Festivals,Flag Hosting
END:VEVENT
END:VCALENDAR