BEGIN:VCALENDAR
VERSION:2.0
PRODID:-//Gujarat Hindu Society - ECPv5.9.1//NONSGML v1.0//EN
CALSCALE:GREGORIAN
METHOD:PUBLISH
X-WR-CALNAME:Gujarat Hindu Society
X-ORIGINAL-URL:https://www.ghspreston.co.uk
X-WR-CALDESC:Events for Gujarat Hindu Society
BEGIN:VTIMEZONE
TZID:Europe/London
BEGIN:DAYLIGHT
TZOFFSETFROM:+0000
TZOFFSETTO:+0100
TZNAME:BST
DTSTART:20230326T010000
END:DAYLIGHT
BEGIN:STANDARD
TZOFFSETFROM:+0100
TZOFFSETTO:+0000
TZNAME:GMT
DTSTART:20231029T010000
END:STANDARD
END:VTIMEZONE
BEGIN:VEVENT
DTSTART;TZID=Europe/London:20231008T110000
DTEND;TZID=Europe/London:20231008T150000
DTSTAMP:20260423T050052
CREATED:20231004T225003Z
LAST-MODIFIED:20231027T205256Z
UID:8079-1696762800-1696777200@www.ghspreston.co.uk
SUMMARY:Bhajan Bhojan Sun 8 Oct
DESCRIPTION:Everyone is welcome to join this religious programe.\n  \n9:30 am : Morning Arti \n11:00 am to 12:30 pm: Children’s Bhajan \n12:30 pm to 1:00 pm : Rajbhog Aarti \n1:00 pm to 2:00 pm : Bhojan-Prasadi \n2:00 pm to 3:00 pm : Bahenona Bhajan (for ladies) \n  \nBhajan Bhojan is aimed at children and embrace our Hindu Culture by chanting the ‘Bhajans’. \nWith knowledgeable community leaders\, the youth of today to name of God through the children can learn and understand more about our faith. It is very rewarding to see and hear the children singing devotional songs. \nParents\, please encourage and bring your children to gain and grow in confidence and learn more about our Culture. \nBhajan bhojan programme will take place on 8th October. Please come with your children\, family and friends. \n 
URL:https://www.ghspreston.co.uk/calendar/bhajan-bhojan-sun-8-oct-2023/
LOCATION:GHS Temple\, Gujarat Hindu Society and Community Centre South Meadow Lane\, Preston\, Lancashire\, PR1 8JN\, United Kingdom
CATEGORIES:2023,Bhajan Bhojan
END:VEVENT
END:VCALENDAR