BEGIN:VCALENDAR
VERSION:2.0
PRODID:-//Gujarat Hindu Society - ECPv5.9.1//NONSGML v1.0//EN
CALSCALE:GREGORIAN
METHOD:PUBLISH
X-WR-CALNAME:Gujarat Hindu Society
X-ORIGINAL-URL:https://www.ghspreston.co.uk
X-WR-CALDESC:Events for Gujarat Hindu Society
BEGIN:VTIMEZONE
TZID:Europe/London
BEGIN:DAYLIGHT
TZOFFSETFROM:+0000
TZOFFSETTO:+0100
TZNAME:BST
DTSTART:20230326T010000
END:DAYLIGHT
BEGIN:STANDARD
TZOFFSETFROM:+0100
TZOFFSETTO:+0000
TZNAME:GMT
DTSTART:20231029T010000
END:STANDARD
END:VTIMEZONE
BEGIN:VEVENT
DTSTART;TZID=Europe/London:20231105T110000
DTEND;TZID=Europe/London:20231105T150000
DTSTAMP:20260422T210327
CREATED:20231027T205306Z
LAST-MODIFIED:20231103T142401Z
UID:8133-1699182000-1699196400@www.ghspreston.co.uk
SUMMARY:Bhajan Bhojan Sun 5 Nov
DESCRIPTION:Everyone is welcome to join this religious programe.\n  \nProgramme details: \n9:30 am : Morning Arti \n11:00 am to 12:30 pm: Children’s Bhajan \n12:30 pm to 1:00 pm : Rajbhog Aarti \n1:00 pm to 2:00 pm : Bhojan-Prasadi \n2:00 pm to 4:00 pm : Bahenona Bhajan (for ladies) \n  \nBhajan Bhojan programme is for the whole family but specifically for the children to gain confidence and take part in singing bhajans. So\, do come on the Sunday and join in with whole family and friends. \nMost of the children who come regularly to the Bhajan Bhojan get singing coaching by the Balkunj Lead Volunteers. If you would like your child/ren to take part please contact the Office.
URL:https://www.ghspreston.co.uk/calendar/bhajan-bhojan-sun-5-nov-2023/
LOCATION:GHS Temple\, Gujarat Hindu Society and Community Centre South Meadow Lane\, Preston\, Lancashire\, PR1 8JN\, United Kingdom
CATEGORIES:2023,Bhajan Bhojan
END:VEVENT
END:VCALENDAR