BEGIN:VCALENDAR
VERSION:2.0
PRODID:-//Gujarat Hindu Society - ECPv5.9.1//NONSGML v1.0//EN
CALSCALE:GREGORIAN
METHOD:PUBLISH
X-WR-CALNAME:Gujarat Hindu Society
X-ORIGINAL-URL:https://www.ghspreston.co.uk
X-WR-CALDESC:Events for Gujarat Hindu Society
BEGIN:VTIMEZONE
TZID:Europe/London
BEGIN:DAYLIGHT
TZOFFSETFROM:+0000
TZOFFSETTO:+0100
TZNAME:BST
DTSTART:20250330T010000
END:DAYLIGHT
BEGIN:STANDARD
TZOFFSETFROM:+0100
TZOFFSETTO:+0000
TZNAME:GMT
DTSTART:20251026T010000
END:STANDARD
END:VTIMEZONE
BEGIN:VEVENT
DTSTART;TZID=Europe/London:20250427T093000
DTEND;TZID=Europe/London:20250427T150000
DTSTAMP:20260422T105345
CREATED:20250301T220414Z
LAST-MODIFIED:20250301T220545Z
UID:9665-1745746200-1745766000@www.ghspreston.co.uk
SUMMARY:Bhajan Bhojan Sun 27th Apr
DESCRIPTION:Everyone is welcome to join this religious programme.\n  \nProgramme details: \n9:30 am : Morning Arti \n11:00 am to 12:30 pm: Children’s Bhajan \n12:30 pm to 1:00 pm : Rajbhog Aarti \n1:00 pm to 2:00 pm : Bhojan-Prasadi \n2:00 pm to 3:00 pm : Bahenona Bhajan (Bhajan for ladies) \n  \nPARENTS: THIS IS YOUR CHANCE TO GIVE YOUR CHILDREN SIMPLE & BASIC START TO LEARNING OUR ‘DHARMA’. You are most welcome! \n  \n 
URL:https://www.ghspreston.co.uk/calendar/bhajan-bhojan-sun-27th-apr-2025/
LOCATION:GHS Temple\, Gujarat Hindu Society and Community Centre South Meadow Lane\, Preston\, Lancashire\, PR1 8JN\, United Kingdom
CATEGORIES:2025,Bhajan Bhojan
END:VEVENT
END:VCALENDAR